Package: nnNorm Version: 2.71.0 Command: /Library/Frameworks/R.framework/Resources/bin/R CMD INSTALL nnNorm StartedAt: 2025-02-09 15:07:25 -0500 (Sun, 09 Feb 2025) EndedAt: 2025-02-09 15:08:01 -0500 (Sun, 09 Feb 2025) EllapsedTime: 36.0 seconds RetCode: 0 Status: OK