Package: nnNorm Version: 2.71.0 Command: /home/biocbuild/bbs-3.21-bioc/R/bin/R CMD INSTALL nnNorm StartedAt: 2025-02-03 15:13:29 -0500 (Mon, 03 Feb 2025) EndedAt: 2025-02-03 15:13:43 -0500 (Mon, 03 Feb 2025) EllapsedTime: 14.7 seconds RetCode: 0 Status: OK