Package: nnNorm Version: 2.71.0 Command: chmod a+r nnNorm -R && E:\biocbuild\bbs-3.21-bioc\R\bin\R.exe CMD build --keep-empty-dirs --no-resave-data nnNorm StartedAt: 2025-02-03 20:34:39 -0500 (Mon, 03 Feb 2025) EndedAt: 2025-02-03 20:35:48 -0500 (Mon, 03 Feb 2025) EllapsedTime: 68.4 seconds RetCode: 0 Status: OK PackageFile: nnNorm_2.71.0.tar.gz PackageFileSize: 1.495 MiB