Package: nnNorm Version: 2.71.0 Command: E:\biocbuild\bbs-3.21-bioc\R\bin\R.exe CMD INSTALL nnNorm StartedAt: 2025-02-03 15:39:26 -0500 (Mon, 03 Feb 2025) EndedAt: 2025-02-03 15:39:38 -0500 (Mon, 03 Feb 2025) EllapsedTime: 11.6 seconds RetCode: 0 Status: OK