Package: nnSVG Version: 1.11.0 Command: /Library/Frameworks/R.framework/Resources/bin/R CMD build --keep-empty-dirs --no-resave-data nnSVG StartedAt: 2025-02-05 17:09:07 -0500 (Wed, 05 Feb 2025) EndedAt: 2025-02-05 17:09:37 -0500 (Wed, 05 Feb 2025) EllapsedTime: 30.3 seconds RetCode: 1 Status: ERROR PackageFile: None PackageFileSize: NA