Package: nnSVG Version: 1.11.0 Command: /Library/Frameworks/R.framework/Resources/bin/R CMD check --install=check:nnSVG.install-out.txt --library=/Library/Frameworks/R.framework/Resources/library --no-vignettes --timings nnSVG_1.11.0.tar.gz StartedAt: 2025-01-21 20:37:45 -0500 (Tue, 21 Jan 2025) EndedAt: 2025-01-21 20:40:20 -0500 (Tue, 21 Jan 2025) EllapsedTime: 155.1 seconds RetCode: 0 Status: OK CheckDir: nnSVG.Rcheck Warnings: 0