Package: nnSVG Version: 1.11.0 Command: rm -rf nnSVG.buildbin-libdir && mkdir nnSVG.buildbin-libdir && /Users/biocbuild/BBS/utils/build-universal.sh nnSVG_1.11.0.tar.gz /Library/Frameworks/R.framework/Resources/bin/R nnSVG.buildbin-libdir StartedAt: 2025-01-22 01:03:51 -0500 (Wed, 22 Jan 2025) EndedAt: 2025-01-22 01:04:25 -0500 (Wed, 22 Jan 2025) EllapsedTime: 33.7 seconds RetCode: 0 Status: OK PackageFile: nnSVG_1.11.0.tgz PackageFileSize: 1.53 MiB