Package: nnSVG Version: 1.11.0 Command: /Library/Frameworks/R.framework/Resources/bin/R CMD INSTALL nnSVG StartedAt: 2025-02-03 15:20:30 -0500 (Mon, 03 Feb 2025) EndedAt: 2025-02-03 15:21:02 -0500 (Mon, 03 Feb 2025) EllapsedTime: 31.9 seconds RetCode: 0 Status: OK