Package: nnSVG Version: 1.11.0 Command: /home/biocbuild/bbs-3.21-bioc/R/bin/R CMD build --keep-empty-dirs --no-resave-data nnSVG StartedAt: 2025-02-05 18:26:55 -0500 (Wed, 05 Feb 2025) EndedAt: 2025-02-05 18:28:14 -0500 (Wed, 05 Feb 2025) EllapsedTime: 79.2 seconds RetCode: 1 Status: ERROR PackageFile: None PackageFileSize: NA