Package: nnSVG Version: 1.11.3 Command: /home/biocbuild/bbs-3.21-bioc/R/bin/R CMD INSTALL nnSVG StartedAt: 2025-02-09 15:21:47 -0500 (Sun, 09 Feb 2025) EndedAt: 2025-02-09 15:22:10 -0500 (Sun, 09 Feb 2025) EllapsedTime: 23.2 seconds RetCode: 0 Status: OK