Package: nnSVG Version: 1.11.0 Command: rm -rf nnSVG.buildbin-libdir && mkdir nnSVG.buildbin-libdir && E:\biocbuild\bbs-3.21-bioc\R\bin\R.exe CMD INSTALL --build --library=nnSVG.buildbin-libdir nnSVG_1.11.0.tar.gz StartedAt: 2025-01-22 08:10:22 -0500 (Wed, 22 Jan 2025) EndedAt: 2025-01-22 08:10:52 -0500 (Wed, 22 Jan 2025) EllapsedTime: 29.4 seconds RetCode: 0 Status: OK PackageFile: nnSVG_1.11.0.zip PackageFileSize: 467.3 KiB