Package: nnSVG Version: 1.11.3 Command: chmod a+r nnSVG -R && E:\biocbuild\bbs-3.21-bioc\R\bin\R.exe CMD build --keep-empty-dirs --no-resave-data nnSVG StartedAt: 2025-02-09 20:21:16 -0500 (Sun, 09 Feb 2025) EndedAt: 2025-02-09 20:24:41 -0500 (Sun, 09 Feb 2025) EllapsedTime: 204.2 seconds RetCode: 1 Status: ERROR PackageFile: None PackageFileSize: NA