Package: nondetects Version: 2.37.0 Command: /home/biocbuild/R/R/bin/R CMD build --keep-empty-dirs --no-resave-data nondetects StartedAt: 2025-01-29 00:53:47 -0000 (Wed, 29 Jan 2025) EndedAt: 2025-01-29 00:53:49 -0000 (Wed, 29 Jan 2025) EllapsedTime: 2.0 seconds RetCode: 1 Status: ERROR PackageFile: None PackageFileSize: NA