Package: nondetects Version: 2.37.0 Command: /home/biocbuild/bbs-3.21-bioc/R/bin/R CMD INSTALL nondetects StartedAt: 2025-02-12 16:06:07 -0500 (Wed, 12 Feb 2025) EndedAt: 2025-02-12 16:06:07 -0500 (Wed, 12 Feb 2025) EllapsedTime: 0.2 seconds RetCode: 1 Status: ERROR