Package: nondetects Version: 2.37.0 Command: E:\biocbuild\bbs-3.21-bioc\R\bin\R.exe CMD INSTALL nondetects StartedAt: 2025-02-09 17:07:55 -0500 (Sun, 09 Feb 2025) EndedAt: 2025-02-09 17:07:55 -0500 (Sun, 09 Feb 2025) EllapsedTime: 0.4 seconds RetCode: 1 Status: ERROR