Package: normalize450K Version: 1.35.0 Command: rm -rf normalize450K.buildbin-libdir && mkdir normalize450K.buildbin-libdir && /Users/biocbuild/BBS/utils/build-universal.sh normalize450K_1.35.0.tar.gz /Library/Frameworks/R.framework/Resources/bin/R normalize450K.buildbin-libdir StartedAt: 2025-02-09 22:23:45 -0500 (Sun, 09 Feb 2025) EndedAt: 2025-02-09 22:23:56 -0500 (Sun, 09 Feb 2025) EllapsedTime: 10.2 seconds RetCode: 0 Status: OK PackageFile: normalize450K_1.35.0.tgz PackageFileSize: 3.137 MiB