Package: normalize450K Version: 1.35.0 Command: /Library/Frameworks/R.framework/Resources/bin/R CMD build --keep-empty-dirs --no-resave-data normalize450K StartedAt: 2025-02-12 17:08:16 -0500 (Wed, 12 Feb 2025) EndedAt: 2025-02-12 17:08:30 -0500 (Wed, 12 Feb 2025) EllapsedTime: 14.2 seconds RetCode: 0 Status: OK PackageFile: normalize450K_1.35.0.tar.gz PackageFileSize: 3.138 MiB