Package: normalize450K Version: 1.35.0 Command: /Library/Frameworks/R.framework/Resources/bin/R CMD INSTALL normalize450K StartedAt: 2025-02-09 15:03:53 -0500 (Sun, 09 Feb 2025) EndedAt: 2025-02-09 15:04:02 -0500 (Sun, 09 Feb 2025) EllapsedTime: 8.5 seconds RetCode: 0 Status: OK