Package: normalize450K Version: 1.35.0 Command: /home/biocbuild/R/R/bin/R CMD build --keep-empty-dirs --no-resave-data normalize450K StartedAt: 2025-01-29 00:54:10 -0000 (Wed, 29 Jan 2025) EndedAt: 2025-01-29 00:54:38 -0000 (Wed, 29 Jan 2025) EllapsedTime: 28.1 seconds RetCode: 0 Status: OK PackageFile: normalize450K_1.35.0.tar.gz PackageFileSize: 3.127 MiB