Package: normalize450K Version: 1.35.0 Command: /home/biocbuild/bbs-3.21-bioc/R/bin/R CMD check --install=check:normalize450K.install-out.txt --library=/home/biocbuild/bbs-3.21-bioc/R/site-library --timings normalize450K_1.35.0.tar.gz StartedAt: 2025-02-10 00:49:54 -0500 (Mon, 10 Feb 2025) EndedAt: 2025-02-10 00:50:27 -0500 (Mon, 10 Feb 2025) EllapsedTime: 33.0 seconds RetCode: 0 Status: OK CheckDir: normalize450K.Rcheck Warnings: 0