Package: npGSEA Version: 1.43.0 Command: /Library/Frameworks/R.framework/Resources/bin/R CMD build --keep-empty-dirs --no-resave-data npGSEA StartedAt: 2025-02-03 17:44:06 -0500 (Mon, 03 Feb 2025) EndedAt: 2025-02-03 17:45:17 -0500 (Mon, 03 Feb 2025) EllapsedTime: 71.3 seconds RetCode: 0 Status: OK PackageFile: npGSEA_1.43.0.tar.gz PackageFileSize: 357.7 KiB