Package: npGSEA Version: 1.43.0 Command: /Library/Frameworks/R.framework/Resources/bin/R CMD INSTALL npGSEA StartedAt: 2025-02-03 15:21:30 -0500 (Mon, 03 Feb 2025) EndedAt: 2025-02-03 15:21:59 -0500 (Mon, 03 Feb 2025) EllapsedTime: 29.0 seconds RetCode: 0 Status: OK