Package: npGSEA Version: 1.43.0 Command: /home/biocbuild/bbs-3.21-bioc/R/bin/R CMD check --install=check:npGSEA.install-out.txt --library=/home/biocbuild/bbs-3.21-bioc/R/site-library --timings npGSEA_1.43.0.tar.gz StartedAt: 2025-02-04 00:58:41 -0500 (Tue, 04 Feb 2025) EndedAt: 2025-02-04 01:00:39 -0500 (Tue, 04 Feb 2025) EllapsedTime: 118.2 seconds RetCode: 0 Status: OK CheckDir: npGSEA.Rcheck Warnings: 0