Package: npGSEA Version: 1.43.0 Command: rm -rf npGSEA.buildbin-libdir && mkdir npGSEA.buildbin-libdir && E:\biocbuild\bbs-3.21-bioc\R\bin\R.exe CMD INSTALL --build --library=npGSEA.buildbin-libdir npGSEA_1.43.0.tar.gz StartedAt: 2025-02-04 08:31:16 -0500 (Tue, 04 Feb 2025) EndedAt: 2025-02-04 08:31:55 -0500 (Tue, 04 Feb 2025) EllapsedTime: 38.5 seconds RetCode: 0 Status: OK PackageFile: npGSEA_1.43.0.zip PackageFileSize: 639.1 KiB