Package: npGSEA Version: 1.43.0 Command: chmod a+r npGSEA -R && E:\biocbuild\bbs-3.21-bioc\R\bin\R.exe CMD build --keep-empty-dirs --no-resave-data npGSEA StartedAt: 2025-02-03 20:36:08 -0500 (Mon, 03 Feb 2025) EndedAt: 2025-02-03 20:36:55 -0500 (Mon, 03 Feb 2025) EllapsedTime: 46.1 seconds RetCode: 0 Status: OK PackageFile: npGSEA_1.43.0.tar.gz PackageFileSize: 293.6 KiB