Package: npGSEA Version: 1.43.0 Command: E:\biocbuild\bbs-3.21-bioc\R\bin\R.exe CMD check --no-multiarch --install=check:npGSEA.install-out.txt --library=E:\biocbuild\bbs-3.21-bioc\R\library --no-vignettes --timings npGSEA_1.43.0.tar.gz StartedAt: 2025-02-04 04:08:11 -0500 (Tue, 04 Feb 2025) EndedAt: 2025-02-04 04:10:18 -0500 (Tue, 04 Feb 2025) EllapsedTime: 126.8 seconds RetCode: 0 Status: OK CheckDir: npGSEA.Rcheck Warnings: 0