Package: nuCpos Version: 1.25.0 Command: /home/biocbuild/bbs-3.21-bioc/R/bin/R CMD build --keep-empty-dirs --no-resave-data nuCpos StartedAt: 2025-02-09 18:27:47 -0500 (Sun, 09 Feb 2025) EndedAt: 2025-02-09 18:27:59 -0500 (Sun, 09 Feb 2025) EllapsedTime: 12.0 seconds RetCode: 0 Status: OK PackageFile: nuCpos_1.25.0.tar.gz PackageFileSize: 2.392 MiB