Package: nuCpos Version: 1.25.0 Command: /home/biocbuild/bbs-3.21-bioc/R/bin/R CMD INSTALL nuCpos StartedAt: 2025-02-12 15:03:39 -0500 (Wed, 12 Feb 2025) EndedAt: 2025-02-12 15:03:53 -0500 (Wed, 12 Feb 2025) EllapsedTime: 13.4 seconds RetCode: 0 Status: OK