Package: nuCpos Version: 1.25.0 Command: E:\biocbuild\bbs-3.21-bioc\R\bin\R.exe CMD check --no-multiarch --install=check:nuCpos.install-out.txt --library=E:\biocbuild\bbs-3.21-bioc\R\library --no-vignettes --timings nuCpos_1.25.0.tar.gz StartedAt: 2025-02-13 03:51:28 -0500 (Thu, 13 Feb 2025) EndedAt: 2025-02-13 03:52:15 -0500 (Thu, 13 Feb 2025) EllapsedTime: 46.6 seconds RetCode: 0 Status: OK CheckDir: nuCpos.Rcheck Warnings: 0