Package: nucleR Version: 2.39.0 Command: rm -rf nucleR.buildbin-libdir && mkdir nucleR.buildbin-libdir && /Users/biocbuild/BBS/utils/build-universal.sh nucleR_2.39.0.tar.gz /Library/Frameworks/R.framework/Resources/bin/R nucleR.buildbin-libdir StartedAt: 2025-02-09 22:23:54 -0500 (Sun, 09 Feb 2025) EndedAt: 2025-02-09 22:24:09 -0500 (Sun, 09 Feb 2025) EllapsedTime: 15.3 seconds RetCode: 0 Status: OK PackageFile: nucleR_2.39.0.tgz PackageFileSize: 1.943 MiB