Package: nucleR Version: 2.39.0 Command: /Library/Frameworks/R.framework/Resources/bin/R CMD check --install=check:nucleR.install-out.txt --library=/Library/Frameworks/R.framework/Resources/library --no-vignettes --timings nucleR_2.39.0.tar.gz StartedAt: 2025-02-09 20:28:00 -0500 (Sun, 09 Feb 2025) EndedAt: 2025-02-09 20:29:46 -0500 (Sun, 09 Feb 2025) EllapsedTime: 106.4 seconds RetCode: 0 Status: WARNINGS CheckDir: nucleR.Rcheck Warnings: 1