Package: nucleR Version: 2.39.0 Command: /home/biocbuild/R/R/bin/R CMD build --keep-empty-dirs --no-resave-data nucleR StartedAt: 2025-01-29 00:55:08 -0000 (Wed, 29 Jan 2025) EndedAt: 2025-01-29 00:57:20 -0000 (Wed, 29 Jan 2025) EllapsedTime: 132.2 seconds RetCode: 0 Status: OK PackageFile: nucleR_2.39.0.tar.gz PackageFileSize: 1.38 MiB