Package: nucleR Version: 2.39.0 Command: /home/biocbuild/R/R/bin/R CMD check --install=check:nucleR.install-out.txt --library=/home/biocbuild/R/R/site-library --no-vignettes --timings nucleR_2.39.0.tar.gz StartedAt: 2025-01-28 13:24:18 -0000 (Tue, 28 Jan 2025) EndedAt: 2025-01-28 13:32:22 -0000 (Tue, 28 Jan 2025) EllapsedTime: 484.3 seconds RetCode: 0 Status: WARNINGS CheckDir: nucleR.Rcheck Warnings: 1