############################################################################## ############################################################################## ### ### Running command: ### ### /home/biocbuild/R/R/bin/R CMD INSTALL nucleR ### ############################################################################## ############################################################################## * installing to library ‘/home/biocbuild/R/R-4.5.0-devel_2024-11-24/site-library’ * installing *source* package ‘nucleR’ ... ** using staged installation ** R ** data ** inst ** byte-compile and prepare package for lazy loading Loading required package: usethis Welcome at Wed Jan 29 19:59:09 2025 Goodbye at Wed Jan 29 19:59:24 2025 ** help *** installing help indices ** building package indices Loading required package: usethis Welcome at Wed Jan 29 19:59:26 2025 Goodbye at Wed Jan 29 19:59:27 2025 ** installing vignettes ** testing if installed package can be loaded from temporary location Loading required package: usethis Welcome at Wed Jan 29 19:59:28 2025 Goodbye at Wed Jan 29 19:59:41 2025 ** testing if installed package can be loaded from final location Loading required package: usethis Welcome at Wed Jan 29 19:59:43 2025 Goodbye at Wed Jan 29 19:59:55 2025 ** testing if installed package keeps a record of temporary installation path * DONE (nucleR)