Package: nucleR Version: 2.39.0 Command: /home/biocbuild/R/R/bin/R CMD INSTALL nucleR StartedAt: 2025-01-29 19:59:07 -0000 (Wed, 29 Jan 2025) EndedAt: 2025-01-29 19:59:56 -0000 (Wed, 29 Jan 2025) EllapsedTime: 49.2 seconds RetCode: 0 Status: OK