Package: nucleR Version: 2.39.0 Command: /Library/Frameworks/R.framework/Resources/bin/R CMD build --keep-empty-dirs --no-resave-data nucleR StartedAt: 2025-02-09 17:46:49 -0500 (Sun, 09 Feb 2025) EndedAt: 2025-02-09 17:48:38 -0500 (Sun, 09 Feb 2025) EllapsedTime: 108.9 seconds RetCode: 0 Status: OK PackageFile: nucleR_2.39.0.tar.gz PackageFileSize: 1.837 MiB