############################################################################## ############################################################################## ### ### Running command: ### ### /Library/Frameworks/R.framework/Resources/bin/R CMD INSTALL nucleR ### ############################################################################## ############################################################################## * installing to library ‘/Library/Frameworks/R.framework/Versions/4.5-x86_64/Resources/library’ * installing *source* package ‘nucleR’ ... ** this is package ‘nucleR’ version ‘2.39.0’ ** using staged installation ** R ** data ** inst ** byte-compile and prepare package for lazy loading Loading required package: usethis Welcome at Sun Feb 9 15:25:03 2025 Goodbye at Sun Feb 9 15:25:18 2025 ** help *** installing help indices ** building package indices Loading required package: usethis Welcome at Sun Feb 9 15:25:20 2025 Goodbye at Sun Feb 9 15:25:20 2025 ** installing vignettes ** testing if installed package can be loaded from temporary location Loading required package: usethis Welcome at Sun Feb 9 15:25:22 2025 Goodbye at Sun Feb 9 15:25:34 2025 ** testing if installed package can be loaded from final location Loading required package: usethis Welcome at Sun Feb 9 15:25:36 2025 Goodbye at Sun Feb 9 15:25:49 2025 ** testing if installed package keeps a record of temporary installation path * DONE (nucleR)