Package: nucleR Version: 2.39.0 Command: /Library/Frameworks/R.framework/Resources/bin/R CMD INSTALL nucleR StartedAt: 2025-02-09 15:25:01 -0500 (Sun, 09 Feb 2025) EndedAt: 2025-02-09 15:25:50 -0500 (Sun, 09 Feb 2025) EllapsedTime: 49.0 seconds RetCode: 0 Status: OK