Package: nucleR Version: 2.39.0 Command: /home/biocbuild/bbs-3.21-bioc/R/bin/R CMD build --keep-empty-dirs --no-resave-data nucleR StartedAt: 2025-02-09 18:27:46 -0500 (Sun, 09 Feb 2025) EndedAt: 2025-02-09 18:29:01 -0500 (Sun, 09 Feb 2025) EllapsedTime: 75.1 seconds RetCode: 0 Status: OK PackageFile: nucleR_2.39.0.tar.gz PackageFileSize: 1.799 MiB