Package: nucleR Version: 2.39.0 Command: /home/biocbuild/bbs-3.21-bioc/R/bin/R CMD check --install=check:nucleR.install-out.txt --library=/home/biocbuild/bbs-3.21-bioc/R/site-library --timings nucleR_2.39.0.tar.gz StartedAt: 2025-02-10 00:52:10 -0500 (Mon, 10 Feb 2025) EndedAt: 2025-02-10 00:57:34 -0500 (Mon, 10 Feb 2025) EllapsedTime: 323.5 seconds RetCode: 0 Status: WARNINGS CheckDir: nucleR.Rcheck Warnings: 1