############################################################################## ############################################################################## ### ### Running command: ### ### /home/biocbuild/bbs-3.21-bioc/R/bin/R CMD INSTALL nucleR ### ############################################################################## ############################################################################## * installing to library ‘/home/biocbuild/bbs-3.21-bioc/R/site-library’ * installing *source* package ‘nucleR’ ... ** this is package ‘nucleR’ version ‘2.39.0’ ** using staged installation ** R ** data ** inst ** byte-compile and prepare package for lazy loading Loading required package: usethis Welcome at Sun Feb 9 15:50:52 2025 Goodbye at Sun Feb 9 15:51:03 2025 ** help *** installing help indices ** building package indices Loading required package: usethis Welcome at Sun Feb 9 15:51:04 2025 Goodbye at Sun Feb 9 15:51:04 2025 ** installing vignettes ** testing if installed package can be loaded from temporary location Loading required package: usethis Welcome at Sun Feb 9 15:51:05 2025 Goodbye at Sun Feb 9 15:51:15 2025 ** testing if installed package can be loaded from final location Loading required package: usethis Welcome at Sun Feb 9 15:51:16 2025 Goodbye at Sun Feb 9 15:51:25 2025 ** testing if installed package keeps a record of temporary installation path * DONE (nucleR)