Package: nucleR Version: 2.39.0 Command: rm -rf nucleR.buildbin-libdir && mkdir nucleR.buildbin-libdir && E:\biocbuild\bbs-3.21-bioc\R\bin\R.exe CMD INSTALL --build --library=nucleR.buildbin-libdir nucleR_2.39.0.tar.gz StartedAt: 2025-02-13 08:28:26 -0500 (Thu, 13 Feb 2025) EndedAt: 2025-02-13 08:29:15 -0500 (Thu, 13 Feb 2025) EllapsedTime: 48.6 seconds RetCode: 0 Status: OK PackageFile: nucleR_2.39.0.zip PackageFileSize: 1.288 MiB