Package: nucleR Version: 2.39.0 Command: chmod a+r nucleR -R && E:\biocbuild\bbs-3.21-bioc\R\bin\R.exe CMD build --keep-empty-dirs --no-resave-data nucleR StartedAt: 2025-02-09 20:23:19 -0500 (Sun, 09 Feb 2025) EndedAt: 2025-02-09 20:25:03 -0500 (Sun, 09 Feb 2025) EllapsedTime: 103.6 seconds RetCode: 0 Status: OK PackageFile: nucleR_2.39.0.tar.gz PackageFileSize: 1.177 MiB