############################################################################## ############################################################################## ### ### Running command: ### ### E:\biocbuild\bbs-3.21-bioc\R\bin\R.exe CMD INSTALL nucleR ### ############################################################################## ############################################################################## * installing to library 'E:/biocbuild/bbs-3.21-bioc/R/library' * installing *source* package 'nucleR' ... ** this is package 'nucleR' version '2.39.0' ** using staged installation ** R ** data ** inst ** byte-compile and prepare package for lazy loading Loading required package: usethis Welcome at Sun Feb 9 16:52:25 2025 Goodbye at Sun Feb 9 16:52:50 2025 ** help *** installing help indices ** building package indices Loading required package: usethis Welcome at Sun Feb 9 16:52:57 2025 Goodbye at Sun Feb 9 16:52:58 2025 ** installing vignettes ** testing if installed package can be loaded from temporary location Loading required package: usethis Welcome at Sun Feb 9 16:52:59 2025 Goodbye at Sun Feb 9 16:53:09 2025 ** testing if installed package can be loaded from final location Loading required package: usethis Welcome at Sun Feb 9 16:53:10 2025 Goodbye at Sun Feb 9 16:53:19 2025 ** testing if installed package keeps a record of temporary installation path * DONE (nucleR)