Package: nucleoSim Version: 1.35.0 Maintainer: Astrid DeschĂȘnes MaintainerEmail: adeschen at hotmail.com git_url: https://git.bioconductor.org/packages/nucleoSim git_branch: devel git_last_commit: 334622c git_last_commit_date: 2024-10-29 10:08:07 -0500 (Tue, 29 Oct 2024)