Package: nucleoSim Version: 1.35.0 Command: /home/biocbuild/R/R/bin/R CMD build --keep-empty-dirs --no-resave-data nucleoSim StartedAt: 2025-01-29 00:55:03 -0000 (Wed, 29 Jan 2025) EndedAt: 2025-01-29 00:55:21 -0000 (Wed, 29 Jan 2025) EllapsedTime: 18.0 seconds RetCode: 0 Status: OK PackageFile: nucleoSim_1.35.0.tar.gz PackageFileSize: 380.5 KiB