Package: nucleoSim Version: 1.35.0 Command: /home/biocbuild/bbs-3.21-bioc/R/bin/R CMD build --keep-empty-dirs --no-resave-data nucleoSim StartedAt: 2025-02-09 18:27:37 -0500 (Sun, 09 Feb 2025) EndedAt: 2025-02-09 18:27:52 -0500 (Sun, 09 Feb 2025) EllapsedTime: 15.0 seconds RetCode: 0 Status: OK PackageFile: nucleoSim_1.35.0.tar.gz PackageFileSize: 455.9 KiB