Package: nucleoSim Version: 1.35.0 Command: /home/biocbuild/bbs-3.21-bioc/R/bin/R CMD INSTALL nucleoSim StartedAt: 2025-02-12 15:56:20 -0500 (Wed, 12 Feb 2025) EndedAt: 2025-02-12 15:56:26 -0500 (Wed, 12 Feb 2025) EllapsedTime: 6.5 seconds RetCode: 0 Status: OK