Package: nucleoSim Version: 1.35.0 Command: chmod a+r nucleoSim -R && E:\biocbuild\bbs-3.21-bioc\R\bin\R.exe CMD build --keep-empty-dirs --no-resave-data nucleoSim StartedAt: 2025-02-09 20:23:06 -0500 (Sun, 09 Feb 2025) EndedAt: 2025-02-09 20:23:29 -0500 (Sun, 09 Feb 2025) EllapsedTime: 23.0 seconds RetCode: 0 Status: OK PackageFile: nucleoSim_1.35.0.tar.gz PackageFileSize: 302.7 KiB