Package: nullranges Version: 1.13.0 Command: /home/biocbuild/R/R/bin/R CMD check --install=check:nullranges.install-out.txt --library=/home/biocbuild/R/R/site-library --no-vignettes --timings nullranges_1.13.0.tar.gz StartedAt: 2025-01-28 13:24:59 -0000 (Tue, 28 Jan 2025) EndedAt: 2025-01-28 13:32:21 -0000 (Tue, 28 Jan 2025) EllapsedTime: 442.2 seconds RetCode: 0 Status: OK CheckDir: nullranges.Rcheck Warnings: 0